BEGIN:VCALENDAR
VERSION:2.0
PRODID:-//CCI Europe - ECPv6.15.18//NONSGML v1.0//EN
CALSCALE:GREGORIAN
METHOD:PUBLISH
X-WR-CALNAME:CCI Europe
X-ORIGINAL-URL:https://ccieurope.eu
X-WR-CALDESC:Events for CCI Europe
REFRESH-INTERVAL;VALUE=DURATION:PT1H
X-Robots-Tag:noindex
X-PUBLISHED-TTL:PT1H
BEGIN:VTIMEZONE
TZID:Europe/Vienna
BEGIN:DAYLIGHT
TZOFFSETFROM:+0100
TZOFFSETTO:+0200
TZNAME:CEST
DTSTART:20210328T010000
END:DAYLIGHT
BEGIN:STANDARD
TZOFFSETFROM:+0200
TZOFFSETTO:+0100
TZNAME:CET
DTSTART:20211031T010000
END:STANDARD
BEGIN:DAYLIGHT
TZOFFSETFROM:+0100
TZOFFSETTO:+0200
TZNAME:CEST
DTSTART:20220327T010000
END:DAYLIGHT
BEGIN:STANDARD
TZOFFSETFROM:+0200
TZOFFSETTO:+0100
TZNAME:CET
DTSTART:20221030T010000
END:STANDARD
BEGIN:DAYLIGHT
TZOFFSETFROM:+0100
TZOFFSETTO:+0200
TZNAME:CEST
DTSTART:20230326T010000
END:DAYLIGHT
BEGIN:STANDARD
TZOFFSETFROM:+0200
TZOFFSETTO:+0100
TZNAME:CET
DTSTART:20231029T010000
END:STANDARD
END:VTIMEZONE
BEGIN:VEVENT
DTSTART;TZID=Europe/Vienna:20221212T170000
DTEND;TZID=Europe/Vienna:20221212T180000
DTSTAMP:20260422T012512
CREATED:20230221T164528Z
LAST-MODIFIED:20230222T131335Z
UID:4266-1670864400-1670868000@ccieurope.eu
SUMMARY:Advance your Knowldege: Understanding the EU Paediatric and Orphan Regulations
DESCRIPTION:The CCI Europe European Affairs Pillar Committee has hosted this educational webinar to help the European childhood cancer community in better understanding the EU Paediatric and Orphan Regulations – indeed\, this is what children with cancer need to get access to better care! \nThe EU Paediatric and Orphan Regulations are about to be reviewed by the European Parliament. This Education Policy Webinar explained the loopholes of those two regulations that have the potential to improve a timely access to innovative\, high-quality and safe medicines for young cancer patients. It also highlighted the proposed measures put forward by the members of the European Pillar to ensure more efficient and kinder treatments for them. \nThe presentation was followed by an interactive Q&A session with the members of the audience. \nSpeakers: Delphine Heenen\, CCI Europe Committee Member & Lead of European Affairs Pillar and Dr. Teresa de Rojas\, MD-PhD\, ACCELERATE Scientific Coordinator
URL:https://ccieurope.eu/event/advance-your-knowldege-understanding-the-eu-paediatric-and-orphan-regulations/
LOCATION:Online Webinar
CATEGORIES:Event,Gold Webinars
ATTACH;FMTTYPE=image/png:https://ccieurope.eu/wp-content/uploads/2023/02/delphine-webinar.png
END:VEVENT
END:VCALENDAR