BEGIN:VCALENDAR
VERSION:2.0
PRODID:-//CCI Europe - ECPv6.15.18//NONSGML v1.0//EN
CALSCALE:GREGORIAN
METHOD:PUBLISH
X-ORIGINAL-URL:https://ccieurope.eu
X-WR-CALDESC:Events for CCI Europe
REFRESH-INTERVAL;VALUE=DURATION:PT1H
X-Robots-Tag:noindex
X-PUBLISHED-TTL:PT1H
BEGIN:VTIMEZONE
TZID:Europe/Vienna
BEGIN:DAYLIGHT
TZOFFSETFROM:+0100
TZOFFSETTO:+0200
TZNAME:CEST
DTSTART:20220327T010000
END:DAYLIGHT
BEGIN:STANDARD
TZOFFSETFROM:+0200
TZOFFSETTO:+0100
TZNAME:CET
DTSTART:20221030T010000
END:STANDARD
BEGIN:DAYLIGHT
TZOFFSETFROM:+0100
TZOFFSETTO:+0200
TZNAME:CEST
DTSTART:20230326T010000
END:DAYLIGHT
BEGIN:STANDARD
TZOFFSETFROM:+0200
TZOFFSETTO:+0100
TZNAME:CET
DTSTART:20231029T010000
END:STANDARD
BEGIN:DAYLIGHT
TZOFFSETFROM:+0100
TZOFFSETTO:+0200
TZNAME:CEST
DTSTART:20240331T010000
END:DAYLIGHT
BEGIN:STANDARD
TZOFFSETFROM:+0200
TZOFFSETTO:+0100
TZNAME:CET
DTSTART:20241027T010000
END:STANDARD
END:VTIMEZONE
BEGIN:VEVENT
DTSTART;TZID=Europe/Vienna:20230306T170000
DTEND;TZID=Europe/Vienna:20230306T183000
DTSTAMP:20260421T202912
CREATED:20230116T145714Z
LAST-MODIFIED:20230227T110334Z
UID:4054-1678122000-1678127400@ccieurope.eu
SUMMARY:Know the basics: What is Cross Border Health Care?
DESCRIPTION:In this webinar\, participants will learn what cross border health care means\, why it is important and necessary in the context of Paediatric Oncology and highlight challenges. Moreover\, it will address existing inequalities in access to diagnosis\, treatment and care across Europe. It will give an outlook on the follow-up webinar about ERN PaedCan. \n\n\n\n\n\n\n\n\n\n\n\n \nAbout the Speakers: \nAnne Goeres \n\nAnne is managing director at the Fondatioun Kriibskrank Kanner\, national foundation for children with cancer in Luxembourg for 15 years and Committee member of CCI Europe. Anne holds a master’s degree in communications\, more specifically in political and financial communications\, as is therefore the lead of CCI Europe’s Communication Pillar. Anne is a founding board member of Don en Confiance Luxembourg (transparency donations)\, of Ile aux clowns (hospital clowns) and of the National Cancer Institute in Luxembourg representing young cancer patients. Together with two other organisations\, she created Fight Kids Cancer\, an innovative annual call for paediatric cancer research projects.  \n\n \nHarun Sabic \nHarun is a survivor who had osteosarcoma when he was 15. He has finished law school and is currently working in the Association “Heart for kids with cancer” in Bosnia and Herzegovina. Harun is a member of CCI Europe’s Committee and an active participant in the Survivorship and Diagnosis\, Treatment & Care Pillars.  \n \n \nMarko Ocokoljić \nMarko is a pharmacist with gained experience in healthcare research\, specifically the oncology. He is knowledgeable in health policy\, which scopes research briefings on childhood cancer\, producing high-level oncopolicy briefings\, monitoring of scientific research and key paediatric oncology policy developments at the EU level\, and engaging with external entities. \n \n\n\n\nMake sure to register on the button and you will automatically be sent a link to join the webinar!register here
URL:https://ccieurope.eu/event/know-the-basics-what-is-cross-border-health-care/
LOCATION:Online Webinar
CATEGORIES:Event,Gold Webinars
ATTACH;FMTTYPE=image/png:https://ccieurope.eu/wp-content/uploads/2023/01/Screenshot-2023-02-22-at-14.34.53.png
END:VEVENT
END:VCALENDAR