BEGIN:VCALENDAR
VERSION:2.0
PRODID:-//CCI Europe - ECPv6.15.18//NONSGML v1.0//EN
CALSCALE:GREGORIAN
METHOD:PUBLISH
X-WR-CALNAME:CCI Europe
X-ORIGINAL-URL:https://ccieurope.eu
X-WR-CALDESC:Events for CCI Europe
REFRESH-INTERVAL;VALUE=DURATION:PT1H
X-Robots-Tag:noindex
X-PUBLISHED-TTL:PT1H
BEGIN:VTIMEZONE
TZID:Europe/Vienna
BEGIN:DAYLIGHT
TZOFFSETFROM:+0100
TZOFFSETTO:+0200
TZNAME:CEST
DTSTART:20220327T010000
END:DAYLIGHT
BEGIN:STANDARD
TZOFFSETFROM:+0200
TZOFFSETTO:+0100
TZNAME:CET
DTSTART:20221030T010000
END:STANDARD
BEGIN:DAYLIGHT
TZOFFSETFROM:+0100
TZOFFSETTO:+0200
TZNAME:CEST
DTSTART:20230326T010000
END:DAYLIGHT
BEGIN:STANDARD
TZOFFSETFROM:+0200
TZOFFSETTO:+0100
TZNAME:CET
DTSTART:20231029T010000
END:STANDARD
BEGIN:DAYLIGHT
TZOFFSETFROM:+0100
TZOFFSETTO:+0200
TZNAME:CEST
DTSTART:20240331T010000
END:DAYLIGHT
BEGIN:STANDARD
TZOFFSETFROM:+0200
TZOFFSETTO:+0100
TZNAME:CET
DTSTART:20241027T010000
END:STANDARD
END:VTIMEZONE
BEGIN:VEVENT
DTSTART;TZID=Europe/Vienna:20230828T170000
DTEND;TZID=Europe/Vienna:20230828T183000
DTSTAMP:20260421T131400
CREATED:20230418T142258Z
LAST-MODIFIED:20240220T183215Z
UID:4455-1693242000-1693247400@ccieurope.eu
SUMMARY:Know the basics: What are the Models of Care in Paediatric Oncology?
DESCRIPTION:The aim of shared care is to cure every child with cancer\, with optimal quality of life. \nThe principle of shared care is close cooperation between a central paediatric oncology expertise centre and local shared care centres\, so that the young patient can avoid long distance travels for standard clinical examinations and treatments. it is important that the shared care centres meet certain quality criteria and connect closely with the central expertise centre\, so that the best possible care for the child is guaranteed. \nIn this Gold Webinar on the 28th August at 5pm CET\, we will present various shared care models in Europe\, critically examine whether they deliver what they promise and whether they can serve as best practice models for other countries. \n  \nregister here
URL:https://ccieurope.eu/event/what-are-the-models-of-care-in-paediatric-oncology/
LOCATION:Online Webinar
CATEGORIES:Event,Gold Webinars
ATTACH;FMTTYPE=image/jpeg:https://ccieurope.eu/wp-content/uploads/2023/04/Screenshot-2024-02-20-174634.jpg
END:VEVENT
END:VCALENDAR