BEGIN:VCALENDAR
VERSION:2.0
PRODID:-//CCI Europe - ECPv6.15.18//NONSGML v1.0//EN
CALSCALE:GREGORIAN
METHOD:PUBLISH
X-ORIGINAL-URL:https://ccieurope.eu
X-WR-CALDESC:Events for CCI Europe
REFRESH-INTERVAL;VALUE=DURATION:PT1H
X-Robots-Tag:noindex
X-PUBLISHED-TTL:PT1H
BEGIN:VTIMEZONE
TZID:Europe/Vienna
BEGIN:DAYLIGHT
TZOFFSETFROM:+0100
TZOFFSETTO:+0200
TZNAME:CEST
DTSTART:20230326T010000
END:DAYLIGHT
BEGIN:STANDARD
TZOFFSETFROM:+0200
TZOFFSETTO:+0100
TZNAME:CET
DTSTART:20231029T010000
END:STANDARD
BEGIN:DAYLIGHT
TZOFFSETFROM:+0100
TZOFFSETTO:+0200
TZNAME:CEST
DTSTART:20240331T010000
END:DAYLIGHT
BEGIN:STANDARD
TZOFFSETFROM:+0200
TZOFFSETTO:+0100
TZNAME:CET
DTSTART:20241027T010000
END:STANDARD
BEGIN:DAYLIGHT
TZOFFSETFROM:+0100
TZOFFSETTO:+0200
TZNAME:CEST
DTSTART:20250330T010000
END:DAYLIGHT
BEGIN:STANDARD
TZOFFSETFROM:+0200
TZOFFSETTO:+0100
TZNAME:CET
DTSTART:20251026T010000
END:STANDARD
END:VTIMEZONE
BEGIN:VEVENT
DTSTART;TZID=Europe/Vienna:20240205T170000
DTEND;TZID=Europe/Vienna:20240205T183000
DTSTAMP:20260425T155029
CREATED:20240123T152214Z
LAST-MODIFIED:20240123T152517Z
UID:5357-1707152400-1707157800@ccieurope.eu
SUMMARY:Know the basics: ICCD Campaign 2024 - Kick Off!
DESCRIPTION:In this webinar\, CCI Europe will present to the participants the upcoming 3-years global ICCD Campaign “Equal Access To Care” and will focus on how member organisations can actively contribute to year 1 of the campaign with the motto: “Unveiling Challenges”. \nThe Campaign Toolkit will be presented so that member organisations can share and promote the campaign in their countries. In year 1\, everyone affected by childhood cancer is invited to go to the ICCD-platform and submit a digital postcard with the challenges and inequalities they face in their country related to childhood cancer. The postcard will then show up on an interactive\, virtual world map. The objective for year 1 is to raise awareness about the global challenges and inequalities. \nThe aim of this Gold Webinar is to mobilize CCI Europe member organisations for broad and active participation in the campaign. \n\n\nAbout the Speakers: \n\nAnne Goeres\nAnne is managing director at the Fondatioun Kriibskrank Kanner\, national foundation for children with cancer in Luxembourg for 15 years and Committee member of CCI Europe. Anne holds a master’s degree in communications\, more specifically in political and financial communications\, as is therefore the lead of CCI Europe’s Communication Pillar. Anne is a founding board member of Don en Confiance Luxembourg (transparency donations)\, of Ile aux clowns (hospital clowns) and of the National Cancer Institute in Luxembourg representing young cancer patients. Together with two other organisations\, she created Fight Kids Cancer\, an innovative annual call for paediatric cancer research projects. \n\nCarina Schneider\nCarina was diagnosed with Ewing’s Sarcoma at the age of 17 and she’s today a passionate patient advocate\, . Experiencing the lack of adequate long-term follow-up care\, she became active in patient advocacy in 2009. In 2017\, she was part of the group of survivor-representatives from across Europe who launched the survivors-network within CCI Europe. Later that year\, she joined the CCI Europe Committee.\nCarina is a psychology graduate and has worked in paediatric oncology since 2013\, first in the Austrian Childhood Cancer Organisation as project manager and later at the Medical University of Vienna as research coordinator in the psychosocial team of the Paediatric Neurooncology Department. In January 2022\, she became CCI Europe’s Managing Director and works\, together with a committed team\, dedicated Committee Members and patient advocates from all over Europe for a better future for children\, adolescents and young adults\, as well as their families\, who are affected by cancer. \n\nregister here
URL:https://ccieurope.eu/event/know-the-basics-iccd-campaign-kick-off/
LOCATION:Online Webinar
CATEGORIES:Event,Gold Webinars
ATTACH;FMTTYPE=image/jpeg:https://ccieurope.eu/wp-content/uploads/2024/01/goldWebinarICCD2024.jpg
END:VEVENT
END:VCALENDAR