BEGIN:VCALENDAR
VERSION:2.0
PRODID:-//CCI Europe - ECPv6.15.18//NONSGML v1.0//EN
CALSCALE:GREGORIAN
METHOD:PUBLISH
X-WR-CALNAME:CCI Europe
X-ORIGINAL-URL:https://ccieurope.eu
X-WR-CALDESC:Events for CCI Europe
REFRESH-INTERVAL;VALUE=DURATION:PT1H
X-Robots-Tag:noindex
X-PUBLISHED-TTL:PT1H
BEGIN:VTIMEZONE
TZID:Europe/Vienna
BEGIN:DAYLIGHT
TZOFFSETFROM:+0100
TZOFFSETTO:+0200
TZNAME:CEST
DTSTART:20220327T010000
END:DAYLIGHT
BEGIN:STANDARD
TZOFFSETFROM:+0200
TZOFFSETTO:+0100
TZNAME:CET
DTSTART:20221030T010000
END:STANDARD
BEGIN:DAYLIGHT
TZOFFSETFROM:+0100
TZOFFSETTO:+0200
TZNAME:CEST
DTSTART:20230326T010000
END:DAYLIGHT
BEGIN:STANDARD
TZOFFSETFROM:+0200
TZOFFSETTO:+0100
TZNAME:CET
DTSTART:20231029T010000
END:STANDARD
BEGIN:DAYLIGHT
TZOFFSETFROM:+0100
TZOFFSETTO:+0200
TZNAME:CEST
DTSTART:20240331T010000
END:DAYLIGHT
BEGIN:STANDARD
TZOFFSETFROM:+0200
TZOFFSETTO:+0100
TZNAME:CET
DTSTART:20241027T010000
END:STANDARD
END:VTIMEZONE
BEGIN:VEVENT
DTSTART;TZID=Europe/Vienna:20231128T170000
DTEND;TZID=Europe/Vienna:20231128T183000
DTSTAMP:20260424T181033
CREATED:20231113T085749Z
LAST-MODIFIED:20231113T090205Z
UID:4881-1701190800-1701196200@ccieurope.eu
SUMMARY:Webinar: The Social Challenges in Follow-Up Care
DESCRIPTION:Cancer in childhood or adolescence affects not only the patient but the whole family. To make this drastic phase in life as bearable as possible\, multidisciplinary cooperation is a precondition. In addition to optimal medical and psychological care\, social support is also a very important pillar during the treatment period. \nPhysical\, psychological and social problems can occur not only during intensive treatment\, but also years later. The number of late effects increases the longer the oncological disease and treatment occurred. These can vary depending on the type of tumor and treatment. Besides the medical late effects\, a wide range of psychosocial problems can also arise and make everyday life even more difficult for patients and their relatives.  Looking at the social dimension\, it has been documented that AYAs have a significant risk of becoming unemployed in adulthood and having to claim social benefits. Similarly\, Survivors have to fight with an increased risk of living a dependent life\, difficulty establishing/maintaining social relationships\, less likely to be married/partnered and in a worse economic situation compared to peers. Many reasons to give this important topic a stage. \nJoin us for an exciting webinar on “Social challenges in Follow-Up care“. Great speakers from different countries will talk about the most important aspects regarding social challenges\, like „The right to be forgotten“ and „Social isolation“.  A social work expert and a Patient Advocate will tell us what benefits families are entitled to and how this is related to the residence permit. \nTherefore\, the webinar is intended for anyone involved with the topic: survivors\, their families and friends\, health care professionals\, and anyone interested. \nregister here
URL:https://ccieurope.eu/event/webinar-the-social-challenges-in-follow-up-care/
LOCATION:Online Webinar
CATEGORIES:Event,Projects
ATTACH;FMTTYPE=image/png:https://ccieurope.eu/wp-content/uploads/2023/11/Webinarbanner_Social-challenges-1.653770733f7504.89351607.png
END:VEVENT
END:VCALENDAR