BEGIN:VCALENDAR
VERSION:2.0
PRODID:-//CCI Europe - ECPv6.15.18//NONSGML v1.0//EN
CALSCALE:GREGORIAN
METHOD:PUBLISH
X-WR-CALNAME:CCI Europe
X-ORIGINAL-URL:https://ccieurope.eu
X-WR-CALDESC:Events for CCI Europe
REFRESH-INTERVAL;VALUE=DURATION:PT1H
X-Robots-Tag:noindex
X-PUBLISHED-TTL:PT1H
BEGIN:VTIMEZONE
TZID:Europe/Vienna
BEGIN:DAYLIGHT
TZOFFSETFROM:+0100
TZOFFSETTO:+0200
TZNAME:CEST
DTSTART:20230326T010000
END:DAYLIGHT
BEGIN:STANDARD
TZOFFSETFROM:+0200
TZOFFSETTO:+0100
TZNAME:CET
DTSTART:20231029T010000
END:STANDARD
BEGIN:DAYLIGHT
TZOFFSETFROM:+0100
TZOFFSETTO:+0200
TZNAME:CEST
DTSTART:20240331T010000
END:DAYLIGHT
BEGIN:STANDARD
TZOFFSETFROM:+0200
TZOFFSETTO:+0100
TZNAME:CET
DTSTART:20241027T010000
END:STANDARD
BEGIN:DAYLIGHT
TZOFFSETFROM:+0100
TZOFFSETTO:+0200
TZNAME:CEST
DTSTART:20250330T010000
END:DAYLIGHT
BEGIN:STANDARD
TZOFFSETFROM:+0200
TZOFFSETTO:+0100
TZNAME:CET
DTSTART:20251026T010000
END:STANDARD
END:VTIMEZONE
BEGIN:VEVENT
DTSTART;TZID=Europe/Vienna:20240130T170000
DTEND;TZID=Europe/Vienna:20240130T183000
DTSTAMP:20260424T132240
CREATED:20231229T085608Z
LAST-MODIFIED:20231229T085829Z
UID:5237-1706634000-1706639400@ccieurope.eu
SUMMARY:Webinar: Surviving CAYA Cancer - Addressing Late Effects on Long-Term Follow-Up Care
DESCRIPTION:Once the cancer treatment has been completed\, on the one hand\, it feels like a big burden is taken off – but on the other hand\, CAYA Cancer Survivors often still have to deal with numerous late effects. The broad topic of long-term follow-up care will be addressed in the 6th Webinar. \nImportant topics in long-term follow-up care such as fatigue\, fertility\, and neuropsychological therapy will be discussed\, as well as the initial results of a corresponding survey\, a focus group\, and peer visits within the EU-CAYAS-NET project\, which aimed to identify the current situation\, gaps and visions for the future. \nregister here
URL:https://ccieurope.eu/event/webinar-surviving-caya-cancer-addressing-late-effects-on-long-term-follow-up-care/
LOCATION:Online Webinar
CATEGORIES:Event,Projects
ATTACH;FMTTYPE=image/webp:https://ccieurope.eu/wp-content/uploads/2023/12/Long-term-follow-up-care-for-cancer-patients-and-survivors-webinar-2048x2048-1.webp
END:VEVENT
END:VCALENDAR