BEGIN:VCALENDAR
VERSION:2.0
PRODID:-//CCI Europe - ECPv6.15.18//NONSGML v1.0//EN
CALSCALE:GREGORIAN
METHOD:PUBLISH
X-WR-CALNAME:CCI Europe
X-ORIGINAL-URL:https://ccieurope.eu
X-WR-CALDESC:Events for CCI Europe
REFRESH-INTERVAL;VALUE=DURATION:PT1H
X-Robots-Tag:noindex
X-PUBLISHED-TTL:PT1H
BEGIN:VTIMEZONE
TZID:Europe/Vienna
BEGIN:DAYLIGHT
TZOFFSETFROM:+0100
TZOFFSETTO:+0200
TZNAME:CEST
DTSTART:20230326T010000
END:DAYLIGHT
BEGIN:STANDARD
TZOFFSETFROM:+0200
TZOFFSETTO:+0100
TZNAME:CET
DTSTART:20231029T010000
END:STANDARD
BEGIN:DAYLIGHT
TZOFFSETFROM:+0100
TZOFFSETTO:+0200
TZNAME:CEST
DTSTART:20240331T010000
END:DAYLIGHT
BEGIN:STANDARD
TZOFFSETFROM:+0200
TZOFFSETTO:+0100
TZNAME:CET
DTSTART:20241027T010000
END:STANDARD
BEGIN:DAYLIGHT
TZOFFSETFROM:+0100
TZOFFSETTO:+0200
TZNAME:CEST
DTSTART:20250330T010000
END:DAYLIGHT
BEGIN:STANDARD
TZOFFSETFROM:+0200
TZOFFSETTO:+0100
TZNAME:CET
DTSTART:20251026T010000
END:STANDARD
END:VTIMEZONE
BEGIN:VEVENT
DTSTART;TZID=Europe/Vienna:20241014T170000
DTEND;TZID=Europe/Vienna:20241014T183000
DTSTAMP:20260421T234714
CREATED:20240603T150325Z
LAST-MODIFIED:20241002T133127Z
UID:6199-1728925200-1728930600@ccieurope.eu
SUMMARY:Advance Your Knowledge: What could be the impact of Big Data and AI application in paediatric oncology?
DESCRIPTION:In this webinar\, we will delve into the transformative potential of Big Data and Artificial Intelligence (AI) in paediatric oncology\, exploring how these innovative approaches can help cancer research and reshape diagnostics\, treatment strategies\, and outcomes for children with cancer. Join us to delve into the implications\, opportunities\, and ethical considerations surrounding the integration of Big Data and AI in pediatric oncology. \n\nAbout the Speakers: \nPamela Kearns  \nDirector of Institute of Cancer and Genomic Sciences\, University of Birmingham \nPatrick Kemmeren  \nHead of the Big Data Core and Genomics department\, Princess Maxima Center \nFranck Devaux \nEthicist at the Hôpital Universitaire Des Enfants Reine Fabiola \n\n\n\n\nregister here
URL:https://ccieurope.eu/event/advance-your-knowledge-what-could-be-the-impact-of-big-data-and-ai-application-in-paediatric-oncology/
LOCATION:Online Webinar
CATEGORIES:Event,Gold Webinars,R&I
ATTACH;FMTTYPE=image/jpeg:https://ccieurope.eu/wp-content/uploads/2024/06/Gold-webinar-october-2024-scaled.jpg
END:VEVENT
END:VCALENDAR