BEGIN:VCALENDAR
VERSION:2.0
PRODID:-//CCI Europe - ECPv6.15.18//NONSGML v1.0//EN
CALSCALE:GREGORIAN
METHOD:PUBLISH
X-WR-CALNAME:CCI Europe
X-ORIGINAL-URL:https://ccieurope.eu
X-WR-CALDESC:Events for CCI Europe
REFRESH-INTERVAL;VALUE=DURATION:PT1H
X-Robots-Tag:noindex
X-PUBLISHED-TTL:PT1H
BEGIN:VTIMEZONE
TZID:Europe/Vienna
BEGIN:DAYLIGHT
TZOFFSETFROM:+0100
TZOFFSETTO:+0200
TZNAME:CEST
DTSTART:20230326T010000
END:DAYLIGHT
BEGIN:STANDARD
TZOFFSETFROM:+0200
TZOFFSETTO:+0100
TZNAME:CET
DTSTART:20231029T010000
END:STANDARD
BEGIN:DAYLIGHT
TZOFFSETFROM:+0100
TZOFFSETTO:+0200
TZNAME:CEST
DTSTART:20240331T010000
END:DAYLIGHT
BEGIN:STANDARD
TZOFFSETFROM:+0200
TZOFFSETTO:+0100
TZNAME:CET
DTSTART:20241027T010000
END:STANDARD
BEGIN:DAYLIGHT
TZOFFSETFROM:+0100
TZOFFSETTO:+0200
TZNAME:CEST
DTSTART:20250330T010000
END:DAYLIGHT
BEGIN:STANDARD
TZOFFSETFROM:+0200
TZOFFSETTO:+0100
TZNAME:CET
DTSTART:20251026T010000
END:STANDARD
END:VTIMEZONE
BEGIN:VEVENT
DTSTART;VALUE=DATE:20240208
DTEND;VALUE=DATE:20240210
DTSTAMP:20260424T163008
CREATED:20231229T091619Z
LAST-MODIFIED:20231229T091619Z
UID:5244-1707350400-1707523199@ccieurope.eu
SUMMARY:ACCELERATE 2024 Paediatric Oncology Conference
DESCRIPTION:The ACCELERATE Annual Conference offers the perfect opportunity for discussion\, knowledge-sharing\, networking and engagement with our international\, multi-stakeholder community! \nSpeakers present and discuss clinical/preclinical pediatric oncology research\, evolutions in the regulatory landscape worldwide\, and other key challenges in the path toward accelerating the development of new and more innovative therapies for children and adolescents with cancer. ACCELERATE work progress is monitored\, proposals are agreed and launched (new working groups\, scientific publications\, etc.)\, and new challenges are identified. \nDuring the previous editions\, new features have been introduced to make the event even more interactive and engaging for our participants! Breakout sessions on emerging\, hot topics are addressed in focused groups to define concrete actions stemming from the discussion. \n\n\n\n\n\n\n\n\n\n\n\n\n\n\nThe event is hybrid: participants can join in Brussels or online. \n\n\n\n\n\n\n\nregister here
URL:https://ccieurope.eu/event/accelerate-2024-paediatric-oncology-conference/
LOCATION:Brussels\, Belgium
CATEGORIES:Event,R&I
ATTACH;FMTTYPE=image/webp:https://ccieurope.eu/wp-content/uploads/2023/12/12thACBanner-e360d4d8-1920w.webp
END:VEVENT
END:VCALENDAR