BEGIN:VCALENDAR
VERSION:2.0
PRODID:-//CCI Europe - ECPv6.15.18//NONSGML v1.0//EN
CALSCALE:GREGORIAN
METHOD:PUBLISH
X-ORIGINAL-URL:https://ccieurope.eu
X-WR-CALDESC:Events for CCI Europe
REFRESH-INTERVAL;VALUE=DURATION:PT1H
X-Robots-Tag:noindex
X-PUBLISHED-TTL:PT1H
BEGIN:VTIMEZONE
TZID:Europe/Vienna
BEGIN:DAYLIGHT
TZOFFSETFROM:+0100
TZOFFSETTO:+0200
TZNAME:CEST
DTSTART:20230326T010000
END:DAYLIGHT
BEGIN:STANDARD
TZOFFSETFROM:+0200
TZOFFSETTO:+0100
TZNAME:CET
DTSTART:20231029T010000
END:STANDARD
BEGIN:DAYLIGHT
TZOFFSETFROM:+0100
TZOFFSETTO:+0200
TZNAME:CEST
DTSTART:20240331T010000
END:DAYLIGHT
BEGIN:STANDARD
TZOFFSETFROM:+0200
TZOFFSETTO:+0100
TZNAME:CET
DTSTART:20241027T010000
END:STANDARD
BEGIN:DAYLIGHT
TZOFFSETFROM:+0100
TZOFFSETTO:+0200
TZNAME:CEST
DTSTART:20250330T010000
END:DAYLIGHT
BEGIN:STANDARD
TZOFFSETFROM:+0200
TZOFFSETTO:+0100
TZNAME:CET
DTSTART:20251026T010000
END:STANDARD
END:VTIMEZONE
BEGIN:VEVENT
DTSTART;TZID=Europe/Vienna:20240923T170000
DTEND;TZID=Europe/Vienna:20240923T183000
DTSTAMP:20260421T155925
CREATED:20240625T122428Z
LAST-MODIFIED:20240625T122428Z
UID:6287-1727110800-1727116200@ccieurope.eu
SUMMARY:Know the basics: How to advance childhood cancer priorities in the aftermath of the EU elections?
DESCRIPTION:In the aftermath of the EU elections\, the CCI Europe policy team will present the composition of the new elected Parliament and discuss the possible implications for our childhood cancer advocacy priorities. \nDuring this webinar\, we will talk about the impact of those elections on the nomination of the new Commission leaders\, namely for health matters. \nJoin us! An easy way to get informed on what to expect from the EU in the next 5 years. \n\nAbout the Speakers: \nTeresa Pais\nTeresa Pais is an EU public affairs specialist; she worked as parliamentary assistant to a member of the European Parliament\, in a trade association and consultancies in the healthcare sector. She graduated in Law and has a Master’s degree in European affairs. \n\nMarine Gouders\nMarine Gouders\, member of the CCI Europe Office\, studied law and specialised in European law. After graduating\, she did an internship at the European Parliament\, where she discovered the workings of the European institutions. For the past year\, she has been working in the European Affairs Pillar. \n\n\n\n\nregister here
URL:https://ccieurope.eu/event/know-the-basics-how-to-advance-childhood-cancer-priorities-in-the-aftermath-of-the-eu-elections/
LOCATION:Online Webinar
CATEGORIES:EU Affairs,Event,Gold Webinars
ATTACH;FMTTYPE=image/png:https://ccieurope.eu/wp-content/uploads/2024/06/Gold-webinar-final-banner-8.png
END:VEVENT
END:VCALENDAR