BEGIN:VCALENDAR
VERSION:2.0
PRODID:-//CCI Europe - ECPv6.15.18//NONSGML v1.0//EN
CALSCALE:GREGORIAN
METHOD:PUBLISH
X-ORIGINAL-URL:https://ccieurope.eu
X-WR-CALDESC:Events for CCI Europe
REFRESH-INTERVAL;VALUE=DURATION:PT1H
X-Robots-Tag:noindex
X-PUBLISHED-TTL:PT1H
BEGIN:VTIMEZONE
TZID:Europe/Vienna
BEGIN:DAYLIGHT
TZOFFSETFROM:+0100
TZOFFSETTO:+0200
TZNAME:CEST
DTSTART:20230326T010000
END:DAYLIGHT
BEGIN:STANDARD
TZOFFSETFROM:+0200
TZOFFSETTO:+0100
TZNAME:CET
DTSTART:20231029T010000
END:STANDARD
BEGIN:DAYLIGHT
TZOFFSETFROM:+0100
TZOFFSETTO:+0200
TZNAME:CEST
DTSTART:20240331T010000
END:DAYLIGHT
BEGIN:STANDARD
TZOFFSETFROM:+0200
TZOFFSETTO:+0100
TZNAME:CET
DTSTART:20241027T010000
END:STANDARD
BEGIN:DAYLIGHT
TZOFFSETFROM:+0100
TZOFFSETTO:+0200
TZNAME:CEST
DTSTART:20250330T010000
END:DAYLIGHT
BEGIN:STANDARD
TZOFFSETFROM:+0200
TZOFFSETTO:+0100
TZNAME:CET
DTSTART:20251026T010000
END:STANDARD
END:VTIMEZONE
BEGIN:VEVENT
DTSTART;TZID=Europe/Vienna:20240603T090000
DTEND;TZID=Europe/Vienna:20240612T170000
DTSTAMP:20260422T012912
CREATED:20240503T115511Z
LAST-MODIFIED:20240503T115511Z
UID:6003-1717405200-1718211600@ccieurope.eu
SUMMARY:Equity\, Diversity and Inclusion (EDI) principles in Cancer Care: Training event for researchers\, healthcare providers and patient communities
DESCRIPTION:What is “Equity\, Diversity and Inclusion in Cancer Care” training about?  \nDiscover and develop key skills in our engaging training program: \n\nCultural awareness\nRecognizing inequality\nInclusive communication\nCreating a safe environment\nSupporting families and empowering patients\nAddressing discrimination\nComprehensive needs assessment\nInclusive research techniques\nEffective advocacy\, and more!\n\nThe training event and toolkit launch for equitable\, inclusive\, and diverse cancer care\, organized by Youth Cancer Europe and Inclusive Employers Ltd. as part of the EU co-funded EU-CAYAS-NET project\, will take place in Cluj-Napoca\, Romania from June 3 to June 12\, 2024. Successful applicants will enjoy full expense coverage of travel\, accommodation\, and on-site meals. \nThe face-to-face training targets three distinct audiences and will feature the following sessions: \n\n3 – 6 June \n6 – 9 June \n9 – 12 June \n\nInterested participants are invited to complete the Expression of Interest form below. If the form doesn’t work please use this link: https://forms.gle/emSjoeeVn1hbDn9EA \nFor more information please contact Victor Gîrbu at victor@youthcancereurope.org \n\n\nInterested participants are invited to complete the Expression of Interest form below by May 5\, 2024.\n\n\n\nregister here
URL:https://ccieurope.eu/event/equity-diversity-and-inclusion-edi-principles-in-cancer-care-training-event-for-researchers-healthcare-providers-and-patient-communities/
LOCATION:Cluj Napoca\, Romania
CATEGORIES:Event,Projects
ATTACH;FMTTYPE=image/png:https://ccieurope.eu/wp-content/uploads/2024/05/eucayasnet-dei-training-ccieurope.png
END:VEVENT
BEGIN:VEVENT
DTSTART;TZID=Europe/Vienna:20240620T160000
DTEND;TZID=Europe/Vienna:20240620T173000
DTSTAMP:20260422T012912
CREATED:20240606T090213Z
LAST-MODIFIED:20240606T090536Z
UID:6211-1718899200-1718904600@ccieurope.eu
SUMMARY:Specialist Adolescent and Young Adults Units Minimum Standards
DESCRIPTION:What to Expect: \n\nExpert Speakers: Hear from leading experts in the field who will share their knowledge and experiences.\nPanel discussion: Hear diverse perspectives from healthcare professionals\, patient representatives\, and young cancer survivors.\nResources and Support: Gain access to the position paper and implementation guidelines that support adolescents and young adults.\n\n  \nAgenda: \n\nOverview of the Project’s Work Package 4 AYA Care: Learn more about the EU-CAYAS-NET cofounded project\nPatient perspective: Patient talking about what practices already exist and what still needs to be changed.\nFocus on Recommendations: Discuss the “Specialist AYA Units Minimum Standards” position paper.\nImplementation: Healthcare professionals talking about what standards already exist and what still needs to be implemented.\n\n  \nWhy Attend? \n\nLatest Research and Trends: Learn about the latest research and trends affecting young adults.\nCommunity Connection: Connect with a community of individuals who share your interests and concerns.\n\nWhether you are a young adult\, a caregiver\, or a professional working with this age group\, this webinar will provide valuable insights and resources. \n  \n\nregister here
URL:https://ccieurope.eu/event/equity-diversity-and-inclusion-edi-principles-in-cancer-care-training-event-for-researchers-healthcare-providers-and-patient-communities-2/
LOCATION:Online Webinar
CATEGORIES:Event,Survivorship
ATTACH;FMTTYPE=image/png:https://ccieurope.eu/wp-content/uploads/2024/06/eucayasnet_cci_europe_childhood_cancer_survivors.png
END:VEVENT
BEGIN:VEVENT
DTSTART;TZID=Europe/Vienna:20240627T123000
DTEND;TZID=Europe/Vienna:20240628T170000
DTSTAMP:20260422T012912
CREATED:20240625T150100Z
LAST-MODIFIED:20240625T150100Z
UID:6297-1719491400-1719594000@ccieurope.eu
SUMMARY:Surviving Survival – Symposium on mental health of Youth Cancer Survivors
DESCRIPTION:EN 📣 Surviving Survival – Symposium on mental health of Youth Cancer Survivors \nOn 27 June\, a health policy symposium (in German) on “Surviving Survival: How can we improve psychosocial health after childhood\, adolescent and young adult cancer?” will take place in Vienna\, organized by CCI Europe as part of the EU-CAYAS-NET project. \n🗨️ For the first time in German speaking countries\, we will present relevant EU-CAYAS-NET project results to health policy makers\, stakeholders and media representatives\, draw attention to the needs of young survivors 🎗️ and discuss what types of psychological\, social and educational support are missing after cancer in childhood\, adolescence and young adulthood in Austria! 🙌🏻 \nThis will be followed by an interactive patient advocacy training for German-speaking survivors and/or their family members from all over Europe on June 28th! 💪🏻 \nAre you a German speaking survivor/family member\, interested in targeted patient advocacy training and want to learn how to best implement our goals? \nThen register with the button below\, we look forward to seeing you! If you have any questions\, please contact Hannah at h.gsell@ccieurope.eu. \n—– \n🇩🇪 📣 Surviving Survival – Symposium zur mentalen Gesundheit nach Kindekrebs \nAm 27. Juni findet in Wien ein deutschsprachiges gesundheitspolitisches Symposium statt zum Thema “Surviving Survival: Wie können wir die psychosoziale Gesundheit nach Krebs im Kindes-\, Jugend- und jungen Erwachsenenalter verbessern?”\, veranstaltet von CCI Europe im Rahmen des EU-CAYAS-NET Projekts. \n🗨️ Wir präsentieren erstmals im Deutschsprachigen Raum gesundheitspolitischen Entscheidungsträger:innen\, Interessensvertreter:innen und Medienvertreter:innen relevante EU-CAYAS-NET Projektergebnisse\, machen auf die Bedürfnisse junger Survivors 🎗️aufmerksam und diskutieren\, welche Arten von dringend notwendiger psychologischer\, sozialer und edukativer Unterstützung nach einer Krebserkrankung im Kindes-\, Jugend- und jungen Erwachsenenalter in Österreich fehlen! 🙌🏻 \nIm Anschluss daran findet am 28. Juni eine interaktive Advocacy-Schulung für deutschsprachige Survivors und deren Familien aus ganz Europa statt! 💪🏻 \nDu bist ein deutschsprachiger Survivor/Familienmitglied\, interessierst dich für gezieltes Advocacy Training und möchtest lernen\, wie unsere Ziele bestmöglich umgesetzt werden können? \nWir freuen uns auf dich! Bei Fragen wende dich gerne an Hannah unter h.gsell@ccieurope.eu. \nregister here
URL:https://ccieurope.eu/event/surviving-survival-symposium-on-mental-health-of-youth-cancer-survivors/
LOCATION:Vienna\, Austria
CATEGORIES:Event,Survivorship
ATTACH;FMTTYPE=image/png:https://ccieurope.eu/wp-content/uploads/2024/06/EU-CAYAS-NET_event-visuals_OSymposium_Banner.png
END:VEVENT
END:VCALENDAR