BEGIN:VCALENDAR
VERSION:2.0
PRODID:-//CCI Europe - ECPv6.15.18//NONSGML v1.0//EN
CALSCALE:GREGORIAN
METHOD:PUBLISH
X-ORIGINAL-URL:https://ccieurope.eu
X-WR-CALDESC:Events for CCI Europe
REFRESH-INTERVAL;VALUE=DURATION:PT1H
X-Robots-Tag:noindex
X-PUBLISHED-TTL:PT1H
BEGIN:VTIMEZONE
TZID:Europe/Vienna
BEGIN:DAYLIGHT
TZOFFSETFROM:+0100
TZOFFSETTO:+0200
TZNAME:CEST
DTSTART:20230326T010000
END:DAYLIGHT
BEGIN:STANDARD
TZOFFSETFROM:+0200
TZOFFSETTO:+0100
TZNAME:CET
DTSTART:20231029T010000
END:STANDARD
BEGIN:DAYLIGHT
TZOFFSETFROM:+0100
TZOFFSETTO:+0200
TZNAME:CEST
DTSTART:20240331T010000
END:DAYLIGHT
BEGIN:STANDARD
TZOFFSETFROM:+0200
TZOFFSETTO:+0100
TZNAME:CET
DTSTART:20241027T010000
END:STANDARD
BEGIN:DAYLIGHT
TZOFFSETFROM:+0100
TZOFFSETTO:+0200
TZNAME:CEST
DTSTART:20250330T010000
END:DAYLIGHT
BEGIN:STANDARD
TZOFFSETFROM:+0200
TZOFFSETTO:+0100
TZNAME:CET
DTSTART:20251026T010000
END:STANDARD
END:VTIMEZONE
BEGIN:VEVENT
DTSTART;TZID=Europe/Vienna:20240603T170000
DTEND;TZID=Europe/Vienna:20240603T183000
DTSTAMP:20260426T010728
CREATED:20240412T083437Z
LAST-MODIFIED:20241211T004822Z
UID:5875-1717434000-1717439400@ccieurope.eu
SUMMARY:Advance Your Knowledge: Drug Regulations - What is new for the childhood cancer community?
DESCRIPTION:In this webinar\, the participants will learn from our experts about any new developments in the Pharmaceutical Package. The European Parliament is set to adopt its formal position on the revision of the orphan and paediatric regulations this April and the Council has already started its internal discussions. Teresa and Marine will give us an update and let us know about any new developments on the file\, as well as our priorities and achievements in our continuous advocacy efforts to meet with members of the European Parliament and Council representatives. \n\nAbout the Speakers: \nTeresa Pais\nTeresa Pais is an EU public affairs specialist; she worked as parliamentary assistant to a member of the European Parliament\, in a trade association and consultancies in the healthcare sector. She graduated in Law and has a Master’s degree in European affairs. \n\nMarine Gouders\nMarine Gouders\, member of the CCI Europe Office\, studied law and specialised in European law. After graduating\, she did an internship at the European Parliament\, where she discovered the workings of the European institutions. For the past year\, she has been working in the European Affairs Pillar. \n\n\n\nDelphine Heenen\nDelphine Heenen is a CCI Europe board member and the founder\, director and day-to-day manager of KickCancer in Belgium. Delphine was successively a lawyer\, a strategy consultant and active in the investment world of renewable energy. Currently\, she is the leader of the EU affairs pillar and a member of the R&I Pillar. \n\n\n\nregister here
URL:https://ccieurope.eu/event/drug-regulations-childhood-whats-new-for-the-cancer-community/
LOCATION:Online Webinar
CATEGORIES:Event,Gold Webinars
ATTACH;FMTTYPE=image/png:https://ccieurope.eu/wp-content/uploads/2024/04/Gold_Webinar_EU_Affairs.png
END:VEVENT
END:VCALENDAR