BEGIN:VCALENDAR
VERSION:2.0
PRODID:-//CCI Europe - ECPv6.15.18//NONSGML v1.0//EN
CALSCALE:GREGORIAN
METHOD:PUBLISH
X-ORIGINAL-URL:https://ccieurope.eu
X-WR-CALDESC:Events for CCI Europe
REFRESH-INTERVAL;VALUE=DURATION:PT1H
X-Robots-Tag:noindex
X-PUBLISHED-TTL:PT1H
BEGIN:VTIMEZONE
TZID:Europe/Vienna
BEGIN:DAYLIGHT
TZOFFSETFROM:+0100
TZOFFSETTO:+0200
TZNAME:CEST
DTSTART:20230326T010000
END:DAYLIGHT
BEGIN:STANDARD
TZOFFSETFROM:+0200
TZOFFSETTO:+0100
TZNAME:CET
DTSTART:20231029T010000
END:STANDARD
BEGIN:DAYLIGHT
TZOFFSETFROM:+0100
TZOFFSETTO:+0200
TZNAME:CEST
DTSTART:20240331T010000
END:DAYLIGHT
BEGIN:STANDARD
TZOFFSETFROM:+0200
TZOFFSETTO:+0100
TZNAME:CET
DTSTART:20241027T010000
END:STANDARD
BEGIN:DAYLIGHT
TZOFFSETFROM:+0100
TZOFFSETTO:+0200
TZNAME:CEST
DTSTART:20250330T010000
END:DAYLIGHT
BEGIN:STANDARD
TZOFFSETFROM:+0200
TZOFFSETTO:+0100
TZNAME:CET
DTSTART:20251026T010000
END:STANDARD
END:VTIMEZONE
BEGIN:VEVENT
DTSTART;TZID=Europe/Vienna:20240430T170000
DTEND;TZID=Europe/Vienna:20240430T183000
DTSTAMP:20260422T085805
CREATED:20240419T115246Z
LAST-MODIFIED:20240419T115459Z
UID:5898-1714496400-1714501800@ccieurope.eu
SUMMARY:Webinar: Equity\, Diversity and Inclusion in Cancer Care
DESCRIPTION:What is “Equity\, Diversity and Inclusion in Cancer Care” webinar about?  \nImagine a world where every young person battling cancer has access to the best possible care\, regardless of background. This webinar will explore how the EU-CAYAS-NET project is trying to make this a reality. We’re talking about Equity\, Diversity\, and Inclusion (EDI) in cancer care! \nHere’s what you’ll learn: \n\nUnequal care – discover how our research is uncovering challenges faced by young cancer patients from different backgrounds.\nBuilding a better future – learn about key findings and recommendations to make cancer care more equitable.\nInsights from the experts – get highlights from a major policy event “Recommendations for Equitable\, Diverse and Inclusive Cancer Care in Europe” held at the European Parliament in Brussels where these issues were discussed.\n\nPlus\, there’s more! We’ll unveil our upcoming EDI Training sessions. The training program equips healthcare providers\, patient advocates\, and researchers with the tools they need to drive positive change. Through the Train-the-Trainer Toolkit\, participants will gain the knowledge\, skills\, and tools to become champions of EDI in their own fields. Imagine equipping others to create real\, positive change in cancer care! The webinar will wrap up with information on how to register for these exciting training sessions. \nWhether you’re a doctor\, advocate\, researcher\, or simply someone who cares\, this webinar is for you! Don’t miss this chance to learn\, connect\, and become part of the solution in creating a more equitable\, diverse and inclusive future for all those impacted by cancer. \n\nregister here
URL:https://ccieurope.eu/event/webinar-equity-diversity-and-inclusion-in-cancer-care/
LOCATION:Online Webinar
CATEGORIES:Event,Projects
ATTACH;FMTTYPE=image/png:https://ccieurope.eu/wp-content/uploads/2024/04/edi.png
END:VEVENT
END:VCALENDAR