BEGIN:VCALENDAR
VERSION:2.0
PRODID:-//CCI Europe - ECPv6.15.18//NONSGML v1.0//EN
CALSCALE:GREGORIAN
METHOD:PUBLISH
X-WR-CALNAME:CCI Europe
X-ORIGINAL-URL:https://ccieurope.eu
X-WR-CALDESC:Events for CCI Europe
REFRESH-INTERVAL;VALUE=DURATION:PT1H
X-Robots-Tag:noindex
X-PUBLISHED-TTL:PT1H
BEGIN:VTIMEZONE
TZID:Europe/Vienna
BEGIN:DAYLIGHT
TZOFFSETFROM:+0100
TZOFFSETTO:+0200
TZNAME:CEST
DTSTART:20230326T010000
END:DAYLIGHT
BEGIN:STANDARD
TZOFFSETFROM:+0200
TZOFFSETTO:+0100
TZNAME:CET
DTSTART:20231029T010000
END:STANDARD
BEGIN:DAYLIGHT
TZOFFSETFROM:+0100
TZOFFSETTO:+0200
TZNAME:CEST
DTSTART:20240331T010000
END:DAYLIGHT
BEGIN:STANDARD
TZOFFSETFROM:+0200
TZOFFSETTO:+0100
TZNAME:CET
DTSTART:20241027T010000
END:STANDARD
BEGIN:DAYLIGHT
TZOFFSETFROM:+0100
TZOFFSETTO:+0200
TZNAME:CEST
DTSTART:20250330T010000
END:DAYLIGHT
BEGIN:STANDARD
TZOFFSETFROM:+0200
TZOFFSETTO:+0100
TZNAME:CET
DTSTART:20251026T010000
END:STANDARD
END:VTIMEZONE
BEGIN:VEVENT
DTSTART;TZID=Europe/Vienna:20241118T170000
DTEND;TZID=Europe/Vienna:20241118T183000
DTSTAMP:20260421T215713
CREATED:20241017T074513Z
LAST-MODIFIED:20241022T123908Z
UID:6694-1731949200-1731954600@ccieurope.eu
SUMMARY:Advance Your Knowledge: How to develop and translate a multidisciplinary Psycho-Oncology Model of Care into real action?
DESCRIPTION:Advance your knowledge! Psychosocial care in paediatric oncology still needs to be advanced in wide parts of Europe. In this webinar we will learn from experts in Ireland that managed to establish a National Model of Care for Psycho-Oncology services for Children\, Adolescents and Young Adults (CAYA) with Cancer and their families in order to provide a framework to support the way that psychosocial care is delivered to this cohort and their families. We are happy to have the experts from Ireland with us that will present the model of care and tell us about the process that they have been conducting from professional but also from patient organization side. \n\nAbout the Speakers: \nDr Helen Greally \nClinical Lead in Psycho-Oncology at the NCCP and Cancer Care West \nDr Chiara Besani \nPaediatric principal clinical psycho-oncologist \nLaura Cullinan \nCEO at Childhood Cancer Ireland and Parent of a Survivor \n\n\n\n\nregister here
URL:https://ccieurope.eu/event/advance-your-knowledge-how-to-develop-and-translate-a-multidisciplinary-psycho-oncology-model-of-care-into-real-action/
LOCATION:Online Webinar
CATEGORIES:Event,Gold Webinars,Survivorship
ATTACH;FMTTYPE=image/jpeg:https://ccieurope.eu/wp-content/uploads/2024/10/Gold-webinar-final-banner-2-1-scaled.jpg
END:VEVENT
END:VCALENDAR