BEGIN:VCALENDAR
VERSION:2.0
PRODID:-//CCI Europe - ECPv6.15.18//NONSGML v1.0//EN
CALSCALE:GREGORIAN
METHOD:PUBLISH
X-WR-CALNAME:CCI Europe
X-ORIGINAL-URL:https://ccieurope.eu
X-WR-CALDESC:Events for CCI Europe
REFRESH-INTERVAL;VALUE=DURATION:PT1H
X-Robots-Tag:noindex
X-PUBLISHED-TTL:PT1H
BEGIN:VTIMEZONE
TZID:Europe/Berlin
BEGIN:DAYLIGHT
TZOFFSETFROM:+0100
TZOFFSETTO:+0200
TZNAME:CEST
DTSTART:20220327T010000
END:DAYLIGHT
BEGIN:STANDARD
TZOFFSETFROM:+0200
TZOFFSETTO:+0100
TZNAME:CET
DTSTART:20221030T010000
END:STANDARD
BEGIN:DAYLIGHT
TZOFFSETFROM:+0100
TZOFFSETTO:+0200
TZNAME:CEST
DTSTART:20230326T010000
END:DAYLIGHT
BEGIN:STANDARD
TZOFFSETFROM:+0200
TZOFFSETTO:+0100
TZNAME:CET
DTSTART:20231029T010000
END:STANDARD
BEGIN:DAYLIGHT
TZOFFSETFROM:+0100
TZOFFSETTO:+0200
TZNAME:CEST
DTSTART:20240331T010000
END:DAYLIGHT
BEGIN:STANDARD
TZOFFSETFROM:+0200
TZOFFSETTO:+0100
TZNAME:CET
DTSTART:20241027T010000
END:STANDARD
END:VTIMEZONE
BEGIN:VEVENT
DTSTART;VALUE=DATE:20230510
DTEND;VALUE=DATE:20230513
DTSTAMP:20260425T174821
CREATED:20221215T150108Z
LAST-MODIFIED:20221215T150502Z
UID:3986-1683676800-1683935999@ccieurope.eu
SUMMARY:13th CCI Europe Conference\, Valencia
DESCRIPTION:CCI Europe will host its 13th CCI Europe Conference completely face to face from 10 to 12th May 2023 in Valencia\, Spain. This event is once again organized in partnership with SIOP Europe\, and as a part of the SIOPE’s 4th Annual Meeting of the European Society for Paediatric Oncology. \nCCI Europe Conference is open to CCI members around the globe\, as well as for individual parent and patient advocates\, wanting to listen to the interesting sessions we are preparing for you. Your unique registration will allow you to attend open sessions outside of CCI Europe Conference\, that are a part of SIOPE’s Annual Meeting. \nFind detailed information here: https://ccieurope.eu/cci-europe-conference-2023/
URL:https://ccieurope.eu/event/13th-cci-europe-conference/
LOCATION:Valencia\, Spain
ATTACH;FMTTYPE=image/png:https://ccieurope.eu/wp-content/uploads/2022/12/2.png
END:VEVENT
END:VCALENDAR